BEGIN:VCALENDAR
VERSION:2.0
PRODID:-//Adja Thomas-Mbaye - ECPv6.0.10//NONSGML v1.0//EN
CALSCALE:GREGORIAN
METHOD:PUBLISH
X-WR-CALNAME:Adja Thomas-Mbaye
X-ORIGINAL-URL:https://www.adjathomasmbaye.com
X-WR-CALDESC:Events for Adja Thomas-Mbaye
REFRESH-INTERVAL;VALUE=DURATION:PT1H
X-Robots-Tag:noindex
X-PUBLISHED-TTL:PT1H
BEGIN:VTIMEZONE
TZID:Europe/Paris
BEGIN:DAYLIGHT
TZOFFSETFROM:+0100
TZOFFSETTO:+0200
TZNAME:CEST
DTSTART:20240331T010000
END:DAYLIGHT
BEGIN:STANDARD
TZOFFSETFROM:+0200
TZOFFSETTO:+0100
TZNAME:CET
DTSTART:20241027T010000
END:STANDARD
END:VTIMEZONE
BEGIN:VEVENT
DTSTART;TZID=Europe/Paris:20240830T173000
DTEND;TZID=Europe/Paris:20240830T190000
DTSTAMP:20260422T173043
CREATED:20240829T150013Z
LAST-MODIFIED:20240829T150013Z
UID:29241-1725039000-1725044400@www.adjathomasmbaye.com
SUMMARY:Grand Concert de Clôture
DESCRIPTION:
URL:https://www.adjathomasmbaye.com/event/grand-concert-de-cloture/
LOCATION:Salle Tanka- Centre culturel Peyuco Duhart\, 12 Rue du Col de Lavaucoupet\, Saint-Jean-de-Luz\, 64500\, France
ORGANIZER;CN="Festival%20Ravel":MAILTO:billetterie@festivalravel.fr
END:VEVENT
END:VCALENDAR