BEGIN:VCALENDAR
VERSION:2.0
PRODID:-//Adja Thomas-Mbaye - ECPv6.0.10//NONSGML v1.0//EN
CALSCALE:GREGORIAN
METHOD:PUBLISH
X-WR-CALNAME:Adja Thomas-Mbaye
X-ORIGINAL-URL:https://www.adjathomasmbaye.com
X-WR-CALDESC:Events for Adja Thomas-Mbaye
REFRESH-INTERVAL;VALUE=DURATION:PT1H
X-Robots-Tag:noindex
X-PUBLISHED-TTL:PT1H
BEGIN:VTIMEZONE
TZID:Europe/London
BEGIN:DAYLIGHT
TZOFFSETFROM:+0000
TZOFFSETTO:+0100
TZNAME:BST
DTSTART:20240331T010000
END:DAYLIGHT
BEGIN:STANDARD
TZOFFSETFROM:+0100
TZOFFSETTO:+0000
TZNAME:GMT
DTSTART:20241027T010000
END:STANDARD
END:VTIMEZONE
BEGIN:VEVENT
DTSTART;TZID=Europe/London:20240625T130000
DTEND;TZID=Europe/London:20240625T143000
DTSTAMP:20260423T025049
CREATED:20240618T114230Z
LAST-MODIFIED:20240618T114230Z
UID:29223-1719320400-1719325800@www.adjathomasmbaye.com
SUMMARY:Chamber Music Concert
DESCRIPTION:Adja Thomas-Mbaye will be performing Ravel’s 1913 song cycle\, Trois Poèmes de Stéphane Mallarmé. Please join us in the performance studio for an afternoon of French song.
URL:https://www.adjathomasmbaye.com/event/chamber-music-concert/
LOCATION:Royal College of Music\, Prince Consort Road\, London\, South Kensington\, SW7 2BS\, United Kingdom
END:VEVENT
END:VCALENDAR